BEGIN:VCALENDAR
VERSION:2.0
CALSCALE:GREGORIAN
PRODID:adamgibbons/ics
METHOD:PUBLISH
X-PUBLISHED-TTL:PT1H
BEGIN:VEVENT
UID:81@www.coolwashtenaw.events
SUMMARY:Film showing - Palestine 36
DTSTAMP:20260420T083827Z
DTSTART:20260331T223000Z
DTEND:20260401T035900Z
DESCRIPTION:Film | Drama | NR | 1h 58m | 2025\nPart of Falasteen on Screen\
	n\n*Presented in Arabic with English subtitles\n\n1936. As villages across
	 mandatory Palestine rise against British colonial rule\,\nYusuf drifts be
	tween his rural home and the restless energy of Jerusalem\,\nlonging for a
	 future beyond the growing unrest. But history is relentless. With\nrising
	 numbers of Jewish immigrants escaping antisemitism in Europe\, and the\nP
	alestinian population uniting in the largest and longest uprising against\
	nBritain's 30-year dominion\, all sides spiral towards inevitable collisio
	n in a\ndecisive moment for the British Empire and the future of the entir
	e region. From\ndirector Annemarie Jacir ('When I Saw You'\, ' Wajib').\n\
	nShowtimes - Tues 3/31 6:30\; Wed. 4/1 6:30\; Thurs. 4/2 7:30\n\nPreview U
	RL - https://youtu.be/14H4J8bewDY?si=X0f8jHqUxi-NnX6A\n[https://youtu.be/1
	4H4J8bewDY?si=X0f8jHqUxi-NnX6A]\n\n
URL:https://www.coolwashtenaw.events/event/film-showing-palestine-36
LOCATION:Michigan Theatre - 603 E Liberty St\, Ann Arbor
STATUS:CONFIRMED
CATEGORIES:Art,Film Screening,Palestine
X-ALT-DESC;FMTTYPE=text/html:<p>Film | Drama | NR | 1h 58m | 2025  <br>Part
	 of Falasteen on Screen</p><p>*Presented in Arabic with English subtitles<
	/p><p>1936. As villages across mandatory Palestine rise against British co
	lonial rule, Yusuf drifts between his rural home and the restless energy o
	f Jerusalem, longing for a future beyond the growing unrest. But history i
	s relentless. With rising numbers of Jewish immigrants escaping antisemiti
	sm in Europe, and the Palestinian population uniting in the largest and lo
	ngest uprising against Britain's 30-year dominion, all sides spiral toward
	s inevitable collision in a decisive moment for the British Empire and the
	 future of the entire region. From director <strong>Annemarie Jacir</stron
	g> (<em>'When I Saw You', ' Wajib'</em>).</p><p>Showtimes - Tues 3/31 6:30
	; Wed. 4/1 6:30; Thurs. 4/2 7:30</p><p>Preview URL - <a target="_blank" hr
	ef="https://youtu.be/14H4J8bewDY?si=X0f8jHqUxi-NnX6A">https://youtu.be/14H
	4J8bewDY?si=X0f8jHqUxi-NnX6A</a></p><p></p>
BEGIN:VALARM
ACTION:DISPLAY
DESCRIPTION:Film showing - Palestine 36
TRIGGER:-PT1H
END:VALARM
END:VEVENT
END:VCALENDAR
